BEGIN:VCALENDAR
VERSION:2.0
PRODID:-//Delsys Europe - ECPv6.15.20//NONSGML v1.0//EN
CALSCALE:GREGORIAN
METHOD:PUBLISH
X-ORIGINAL-URL:https://delsyseurope.com
X-WR-CALDESC:Events for Delsys Europe
REFRESH-INTERVAL;VALUE=DURATION:PT1H
X-Robots-Tag:noindex
X-PUBLISHED-TTL:PT1H
BEGIN:VTIMEZONE
TZID:America/New_York
BEGIN:DAYLIGHT
TZOFFSETFROM:-0500
TZOFFSETTO:-0400
TZNAME:EDT
DTSTART:20240310T070000
END:DAYLIGHT
BEGIN:STANDARD
TZOFFSETFROM:-0400
TZOFFSETTO:-0500
TZNAME:EST
DTSTART:20241103T060000
END:STANDARD
BEGIN:DAYLIGHT
TZOFFSETFROM:-0500
TZOFFSETTO:-0400
TZNAME:EDT
DTSTART:20250309T070000
END:DAYLIGHT
BEGIN:STANDARD
TZOFFSETFROM:-0400
TZOFFSETTO:-0500
TZNAME:EST
DTSTART:20251102T060000
END:STANDARD
BEGIN:DAYLIGHT
TZOFFSETFROM:-0500
TZOFFSETTO:-0400
TZNAME:EDT
DTSTART:20260308T070000
END:DAYLIGHT
BEGIN:STANDARD
TZOFFSETFROM:-0400
TZOFFSETTO:-0500
TZNAME:EST
DTSTART:20261101T060000
END:STANDARD
END:VTIMEZONE
BEGIN:VEVENT
DTSTART;VALUE=DATE:20250519
DTEND;VALUE=DATE:20250521
DTSTAMP:20260424T042053
CREATED:20250401T235729Z
LAST-MODIFIED:20250401T235729Z
UID:10000017-1747612800-1747785599@delsyseurope.com
SUMMARY:2025 Great Plains Biomechanics & Human Movement Variability Conferences
DESCRIPTION:The Great Plains Biomechanics Conference coincides with the Human Movement Variability conference and will have its 6th appearance since 2020. The goal of this conference is to provide a student-centered meeting where the growing field of biomechanics in topics such as vascular mechanics\, robotics\, bioprinting\, and many others is explored through poster and podium sessions and a keynote speaker. The target demographic includes students\, faculty\, and clinicians from states such as Nebraska\, Iowa\, Kansas\, South Dakota\, North Dakota\, Minnesota\, Missouri\, Colorado\, and Oklahoma. This year it will be held on May 19th!
URL:https://delsyseurope.com/event/2025-great-plains-biomechanics-human-movement-variability-conferences/
LOCATION:University of Nebraska Omaha\, 6160 University Drive South\, Omaha\, NE\, 68182\, United States
CATEGORIES:North America
ATTACH;FMTTYPE=image/jpeg:https://delsyseurope.com/wp-content/uploads/2025/04/Human-Movement-Variability-and-Great-Plains-2025_feature.jpg
END:VEVENT
END:VCALENDAR